BEGIN:VCALENDAR
VERSION:2.0
PRODID:-//Sommar året runt - ECPv6.15.20//NONSGML v1.0//EN
CALSCALE:GREGORIAN
METHOD:PUBLISH
X-WR-CALNAME:Sommar året runt
X-ORIGINAL-URL:https://thebeach.se
X-WR-CALDESC:Händelser för Sommar året runt
REFRESH-INTERVAL;VALUE=DURATION:PT1H
X-Robots-Tag:noindex
X-PUBLISHED-TTL:PT1H
BEGIN:VTIMEZONE
TZID:Europe/Paris
BEGIN:DAYLIGHT
TZOFFSETFROM:+0100
TZOFFSETTO:+0200
TZNAME:CEST
DTSTART:20240331T010000
END:DAYLIGHT
BEGIN:STANDARD
TZOFFSETFROM:+0200
TZOFFSETTO:+0100
TZNAME:CET
DTSTART:20241027T010000
END:STANDARD
BEGIN:DAYLIGHT
TZOFFSETFROM:+0100
TZOFFSETTO:+0200
TZNAME:CEST
DTSTART:20250330T010000
END:DAYLIGHT
BEGIN:STANDARD
TZOFFSETFROM:+0200
TZOFFSETTO:+0100
TZNAME:CET
DTSTART:20251026T010000
END:STANDARD
BEGIN:DAYLIGHT
TZOFFSETFROM:+0100
TZOFFSETTO:+0200
TZNAME:CEST
DTSTART:20260329T010000
END:DAYLIGHT
BEGIN:STANDARD
TZOFFSETFROM:+0200
TZOFFSETTO:+0100
TZNAME:CET
DTSTART:20261025T010000
END:STANDARD
END:VTIMEZONE
BEGIN:VEVENT
DTSTART;VALUE=DATE:20250121
DTEND;VALUE=DATE:20250124
DTSTAMP:20260420T113154
CREATED:20241209T104100Z
LAST-MODIFIED:20241209T104100Z
UID:18251-1737417600-1737676799@thebeach.se
SUMMARY:Grundkurs i beachvolley
DESCRIPTION:GRUNDKURS I BEACHVOLLEY – Upplev beachvolley på riktigt!\nNästa start tisdag 21 januari eller torsdag 23 januari\nIn English \n\nVälj mellan en intensiv 5-veckorskurs på tisdagar 19-20.30 eller torsdagar 20:30–22:00.\nVi lär ut grunderna i tvåmannaspel – perfekt för dig som vill börja träna organiserat.\nTräningen leds av topputbildade tränare\, med kontinuerlig coachning från vår sportchef Mattias Magnusson\, utsedd till Årets Ledare av Svenska Volleybollförbundet.\nPris tisdagar 19.00 är 995:- respektive 495:- för dig som är under 26 år.\nPris torsdagar 20.30 är 795:- respektive 395:- för dig som är under 26 år.\nPrisdifferans beror på att 19.00 är mer poppis än 20.30\nBegränsat antal platser – anmäl dig nu via våran MATCHi-sida.\n\n  \nVåra tränare utbildas kontinuerligt\, inte minst av vår Sportchef Mattias Magnusson som blev vald till årets ledare av Svenska volleybollförbundet.
URL:https://thebeach.se/kalender/grundkurs-i-beachvolley-4/
CATEGORIES:beachvolley,Grundkurs
ATTACH;FMTTYPE=image/jpeg:https://thebeach.se/wp-content/uploads/2024/08/thurins_6_sm_guld.jpg
END:VEVENT
BEGIN:VEVENT
DTSTART;VALUE=DATE:20250121
DTEND;VALUE=DATE:20250124
DTSTAMP:20260420T113154
CREATED:20241209T104229Z
LAST-MODIFIED:20241209T104229Z
UID:18253-1737417600-1737676799@thebeach.se
SUMMARY:FORTSÄTTNINGSKURS I BEACHVOLLEY
DESCRIPTION:CONTINUATION COURSE IN BEACH VOLLEYBALL\nNext start: 2025-01-21 or 2025-01-23 \nTRAINING QUALITY \nOur ambition is for participants in the continuation course to rapidly improve their skill level under the guidance of our skilled coaches. \nOur coaches receive ongoing training\, not least from our Sports Director Mattias Magnusson\, who has accolades such as national team coach\, Leader of the Year from the Swedish Volleyball Federation\, etc. \nEveryone is welcome to receive excellent training and a break from everyday life with us\, where we hope that after each visit\, you feel re-energized by both the training and the reception in our excellent facility. \nYou can find  the registration here! \n\n\n\n\n\n\nFORTSÄTTNINGSKURS I BEACHVOLLEY\n\n\n\n\nNästa start: 2025-01-21 eller 2025-01-23 \nKVALITÉ PÅ TRÄNINGEN \nVår ambition är att deltagarna i fortsättningskursen ska utveckla sin spelnivå i snabb takt under ledning av våra duktiga tränare. \nVåra tränare utbildas kontinuerligt\, inte minst av vår Sportchef Mattias Magnusson med meriter som landslagstränare\,  årets ledare av Svenska Volleybollförbundet\, osv.  \nTill oss är alla välkomna att få bra träning och ett avbrott i vardagen där vi hoppas att du efter varje besök känner att du fått energi av såväl träning som bemötandet i vår fina anläggning. \nDu hittar vilka kurser det finns plats kvar på våran MATCHi-sida!
URL:https://thebeach.se/kalender/fortsattningskurs-i-beachvolley-3/
CATEGORIES:beachvolley,Fortsättningskurs
ATTACH;FMTTYPE=image/jpeg:https://thebeach.se/wp-content/uploads/2023/03/hellvigonfire.jpeg
END:VEVENT
END:VCALENDAR