BEGIN:VCALENDAR
VERSION:2.0
PRODID:-//Sommar året runt - ECPv6.15.20//NONSGML v1.0//EN
CALSCALE:GREGORIAN
METHOD:PUBLISH
X-ORIGINAL-URL:https://thebeach.se
X-WR-CALDESC:Händelser för Sommar året runt
REFRESH-INTERVAL;VALUE=DURATION:PT1H
X-Robots-Tag:noindex
X-PUBLISHED-TTL:PT1H
BEGIN:VTIMEZONE
TZID:Europe/Paris
BEGIN:DAYLIGHT
TZOFFSETFROM:+0100
TZOFFSETTO:+0200
TZNAME:CEST
DTSTART:20240331T010000
END:DAYLIGHT
BEGIN:STANDARD
TZOFFSETFROM:+0200
TZOFFSETTO:+0100
TZNAME:CET
DTSTART:20241027T010000
END:STANDARD
BEGIN:DAYLIGHT
TZOFFSETFROM:+0100
TZOFFSETTO:+0200
TZNAME:CEST
DTSTART:20250330T010000
END:DAYLIGHT
BEGIN:STANDARD
TZOFFSETFROM:+0200
TZOFFSETTO:+0100
TZNAME:CET
DTSTART:20251026T010000
END:STANDARD
BEGIN:DAYLIGHT
TZOFFSETFROM:+0100
TZOFFSETTO:+0200
TZNAME:CEST
DTSTART:20260329T010000
END:DAYLIGHT
BEGIN:STANDARD
TZOFFSETFROM:+0200
TZOFFSETTO:+0100
TZNAME:CET
DTSTART:20261025T010000
END:STANDARD
END:VTIMEZONE
BEGIN:VEVENT
DTSTART;VALUE=DATE:20250215
DTEND;VALUE=DATE:20250216
DTSTAMP:20260422T103944
CREATED:20250109T121533Z
LAST-MODIFIED:20250203T114646Z
UID:18334-1739577600-1739663999@thebeach.se
SUMMARY:SBT3* & TROPIC AFTERBEACH
DESCRIPTION:Årets första afterbeach i kombo med en elitturnering (SBT3*)\nVarmt välkommen – Anmälan har öppnat! \nFör elitspelare finns info i Cupassist om anmälan mm.\nStart på morgonen och finaler inför publik på AB kring 18-19 tiden. Alla deltagare i SBT3* får en särskild inbjudan till kvällen om man vill anmäla sig till kvällens aktiviteter. \nTROPIC AFTERBEACH SCHEMA \n16.30-17.00 prickar man av sig i vår reception @The Beach i Huddinge!\n17.00 Startar vi lotturneringen där du lottas in med ny partner för varje match. Om du inte prickat av dig i tid så får du haka på från och med omgång 2 och framåt!\n18-19 tiden spelas finalerna SBT3* så man har nått att kika på och heja mellan sina egna matcher)\n19.15-20.00 Bjuder vi på nått att spisa. Du hämtar ut maten när det passar dig mellan de tiderna!\n20.30(ish) avrundar vi spelet\, tar en dusch så vi inte luktar USCH\n21.00 Festen dra igång och rätt vad det är drar dansgolv igång.\n00.30 är det färdigt hos oss men vi drar vidare med partybuss in till Stureplan och de som vill festar vidare i City. Obs att bussbiljett ej ingår (vi säljer 50 bussplatser separat) och entré till nattklubb ej är inkluderat men vi brukar försöka få in oss i vip-kö till nattklubb. Ingen platsgaranti. \nTurneringen\nTurneringsformen kallas lott-turnering. Alltså alla lottas ihop i olika lag hela tiden och man samlar poäng individuellt. Så det kvittar helt om du aldrig spelat eller om du är landslagsspelare. Alla spelar med alla och viktigast av allt är att vi har jävligt kul! Du anger din nivå i anmälan så att de som är på cirkus samma nivå spelar fler matcher med dem på samma nivå. \nANGER DIN NIVÅ 1-4 SOM EN KOMMENTAR (skriv inget annat bara en siffra!) \n1 = NYBÖRJARE\n2 = NYBÖRJARE ++ DU HAR GÅTT GRUND/FORTSÄTTNINGSKURS\n3 = MEDELBRA SPELARE (DU TRÄNAR I TRÄNINGSGRUPPER ELLER HAR TRÄNAT REGELBUNDET FÖRUT OCH KANSKE TÄVLAT EN DEL PÅ NIVÅ OPEN GRÖN)\n4=ERFAREN ELITSPELARE (DU TÄVLAR ELLER HAR TÄVLAT OPEN SVART\, CHALLENGER ELLER BÄTTRE).
URL:https://thebeach.se/kalender/sbt3-tropic-afterbeach/
CATEGORIES:beachvolley,Challenger
ATTACH;FMTTYPE=image/jpeg:https://thebeach.se/wp-content/uploads/2025/01/15februari.jpg
END:VEVENT
END:VCALENDAR