BEGIN:VCALENDAR
VERSION:2.0
PRODID:-//Sommar året runt - ECPv6.15.20//NONSGML v1.0//EN
CALSCALE:GREGORIAN
METHOD:PUBLISH
X-WR-CALNAME:Sommar året runt
X-ORIGINAL-URL:https://thebeach.se
X-WR-CALDESC:Händelser för Sommar året runt
REFRESH-INTERVAL;VALUE=DURATION:PT1H
X-Robots-Tag:noindex
X-PUBLISHED-TTL:PT1H
BEGIN:VTIMEZONE
TZID:Europe/Paris
BEGIN:DAYLIGHT
TZOFFSETFROM:+0100
TZOFFSETTO:+0200
TZNAME:CEST
DTSTART:20230326T010000
END:DAYLIGHT
BEGIN:STANDARD
TZOFFSETFROM:+0200
TZOFFSETTO:+0100
TZNAME:CET
DTSTART:20231029T010000
END:STANDARD
BEGIN:DAYLIGHT
TZOFFSETFROM:+0100
TZOFFSETTO:+0200
TZNAME:CEST
DTSTART:20240331T010000
END:DAYLIGHT
BEGIN:STANDARD
TZOFFSETFROM:+0200
TZOFFSETTO:+0100
TZNAME:CET
DTSTART:20241027T010000
END:STANDARD
BEGIN:DAYLIGHT
TZOFFSETFROM:+0100
TZOFFSETTO:+0200
TZNAME:CEST
DTSTART:20250330T010000
END:DAYLIGHT
BEGIN:STANDARD
TZOFFSETFROM:+0200
TZOFFSETTO:+0100
TZNAME:CET
DTSTART:20251026T010000
END:STANDARD
END:VTIMEZONE
BEGIN:VEVENT
DTSTART;VALUE=DATE:20241130
DTEND;VALUE=DATE:20241201
DTSTAMP:20260420T143536
CREATED:20241112T114140Z
LAST-MODIFIED:20241112T115134Z
UID:18203-1732924800-1733011199@thebeach.se
SUMMARY:SBT1*
DESCRIPTION:Info & signup i profixio!
URL:https://thebeach.se/kalender/sbt1-3/
CATEGORIES:beachvolley,Open Svart,sign up
ATTACH;FMTTYPE=image/jpeg:https://thebeach.se/wp-content/uploads/2023/03/337246189_3445764499000155_7558419890037514896_n.jpg
END:VEVENT
END:VCALENDAR