BEGIN:VCALENDAR
VERSION:2.0
PRODID:-//Sommar året runt - ECPv6.15.20//NONSGML v1.0//EN
CALSCALE:GREGORIAN
METHOD:PUBLISH
X-ORIGINAL-URL:https://thebeach.se
X-WR-CALDESC:Händelser för Sommar året runt
REFRESH-INTERVAL;VALUE=DURATION:PT1H
X-Robots-Tag:noindex
X-PUBLISHED-TTL:PT1H
BEGIN:VTIMEZONE
TZID:Europe/Paris
BEGIN:DAYLIGHT
TZOFFSETFROM:+0100
TZOFFSETTO:+0200
TZNAME:CEST
DTSTART:20230326T010000
END:DAYLIGHT
BEGIN:STANDARD
TZOFFSETFROM:+0200
TZOFFSETTO:+0100
TZNAME:CET
DTSTART:20231029T010000
END:STANDARD
BEGIN:DAYLIGHT
TZOFFSETFROM:+0100
TZOFFSETTO:+0200
TZNAME:CEST
DTSTART:20240331T010000
END:DAYLIGHT
BEGIN:STANDARD
TZOFFSETFROM:+0200
TZOFFSETTO:+0100
TZNAME:CET
DTSTART:20241027T010000
END:STANDARD
BEGIN:DAYLIGHT
TZOFFSETFROM:+0100
TZOFFSETTO:+0200
TZNAME:CEST
DTSTART:20250330T010000
END:DAYLIGHT
BEGIN:STANDARD
TZOFFSETFROM:+0200
TZOFFSETTO:+0100
TZNAME:CET
DTSTART:20251026T010000
END:STANDARD
END:VTIMEZONE
BEGIN:VEVENT
DTSTART;VALUE=DATE:20240602
DTEND;VALUE=DATE:20240603
DTSTAMP:20260425T054838
CREATED:20240516T104334Z
LAST-MODIFIED:20240516T104704Z
UID:18023-1717286400-1717372799@thebeach.se
SUMMARY:08 Beachvolley SBT 1*
DESCRIPTION:Mer info och anmälan på förbundets profixio (Anmälan kommer upp eftersom att det närmar sig)
URL:https://thebeach.se/kalender/08-beachvolley-sbt-1/
CATEGORIES:08 Beachvolley club,Open Grön,sign up
ATTACH;FMTTYPE=image/jpeg:https://thebeach.se/wp-content/uploads/2023/08/tillhemsidan2.jpg
END:VEVENT
BEGIN:VEVENT
DTSTART;VALUE=DATE:20240606
DTEND;VALUE=DATE:20240607
DTSTAMP:20260425T054838
CREATED:20240516T104502Z
LAST-MODIFIED:20240516T104502Z
UID:18025-1717632000-1717718399@thebeach.se
SUMMARY:08 Beachvolley SBT 2*
DESCRIPTION:Mer info och anmälan på förbundets profixio (Anmälan kommer upp eftersom att det närmar sig)
URL:https://thebeach.se/kalender/08-beachvolley-sbt-2/
CATEGORIES:08 Beachvolley club,Open Svart,sign up
END:VEVENT
BEGIN:VEVENT
DTSTART;VALUE=DATE:20240606
DTEND;VALUE=DATE:20240607
DTSTAMP:20260425T054838
CREATED:20240516T104553Z
LAST-MODIFIED:20240516T104553Z
UID:18027-1717632000-1717718399@thebeach.se
SUMMARY:08 Beachvolley U19 D/H
DESCRIPTION:Mer info och anmälan på förbundets profixio (Anmälan kommer upp eftersom att det närmar sig)
URL:https://thebeach.se/kalender/08-beachvolley-u19-d-h/
CATEGORIES:08 Beachvolley club,beachvolley,sign up
END:VEVENT
BEGIN:VEVENT
DTSTART;VALUE=DATE:20240609
DTEND;VALUE=DATE:20240610
DTSTAMP:20260425T054838
CREATED:20240604T092953Z
LAST-MODIFIED:20240604T092953Z
UID:18067-1717891200-1717977599@thebeach.se
SUMMARY:Vinnarbana med George!
DESCRIPTION:Söndag den 9e kör vi en vinnarbana med George som vi kör i tre timmar! Pallar du? Om du inte pallar att spela 3 timmar så går det bra att kliva av under turneringens gång. Viktigt att du meddelar George bara som styr vinnarbanan. Vi kör i första hand på utebanorna om vädret är bra och annars kryper vi in i hallen! Öppet för alla som håller nivån (4-5) eller över!
URL:https://thebeach.se/kalender/vinnarbana-med-george/
CATEGORIES:beachvolley,sign up,Vinnarbana
ATTACH;FMTTYPE=image/jpeg:https://thebeach.se/wp-content/uploads/2023/12/george.jpg
END:VEVENT
BEGIN:VEVENT
DTSTART;VALUE=DATE:20240611
DTEND;VALUE=DATE:20240612
DTSTAMP:20260425T054838
CREATED:20240516T141041Z
LAST-MODIFIED:20240516T141041Z
UID:18039-1718064000-1718150399@thebeach.se
SUMMARY:Grundkurs i beachvolley med damlandslaget!
DESCRIPTION:Nu har du chansen att lära dig lira beachvolley med damlandslaget\, femfaldiga SM-mästarna Tina & Sanna Thurin! \nKursen går på tisdagar 19-20.30 på våra utebanor. Tina och Sanna håller i första och sista träningen för kursen men missar tyvärr andra passet men då har vi (nästan) lika bra vikarie. \nMer info och signup på våran MATCHi-sida under kurser!
URL:https://thebeach.se/kalender/grundkurs-i-beachvolley-med-damlandslaget/
LOCATION:The Beach\, Huddinge\, Novavägen 35\, Huddinge\, 14144\, Sverige
CATEGORIES:beachvolley,Grundkurs,sign up,träning
ATTACH;FMTTYPE=image/jpeg:https://thebeach.se/wp-content/uploads/2024/05/thurins.jpeg
END:VEVENT
BEGIN:VEVENT
DTSTART;VALUE=DATE:20240611
DTEND;VALUE=DATE:20240612
DTSTAMP:20260425T054838
CREATED:20240516T141741Z
LAST-MODIFIED:20240516T141741Z
UID:18044-1718064000-1718150399@thebeach.se
SUMMARY:Fortsättningskurs i beachvolley\, sommar
DESCRIPTION:Sommarens fortsättningskurs i beachvolley startar vi den 11 juni och den går 20.30-22.00 \nMer info och signup på våran MATCHi-sida under kurser!
URL:https://thebeach.se/kalender/fortsattningskurs-i-beachvolley-sommar/
LOCATION:The Beach\, Huddinge\, Novavägen 35\, Huddinge\, 14144\, Sverige
CATEGORIES:beachvolley,Fortsättningskurs,sign up
END:VEVENT
BEGIN:VEVENT
DTSTART;VALUE=DATE:20240613
DTEND;VALUE=DATE:20240614
DTSTAMP:20260425T054838
CREATED:20240516T141458Z
LAST-MODIFIED:20240516T141458Z
UID:18042-1718236800-1718323199@thebeach.se
SUMMARY:Grundkurs i beachvolley\, torsdagar 20.30
DESCRIPTION:Lära dig lira beachvolley med oss! \nVi erbjuder två grundkurser i juni där den ena går på tisdagar 19.00-20.30 med start 11  juni och den andra på torsdagar 20.30-22.00 med start 13 juni. \nDu hittar mer info och signup på våran MATCHi-sida under kurser!
URL:https://thebeach.se/kalender/grundkurs-i-beachvolley-torsdagar-20-30/
CATEGORIES:beachvolley,Grundkurs,sign up,träning
END:VEVENT
BEGIN:VEVENT
DTSTART;VALUE=DATE:20240616
DTEND;VALUE=DATE:20240617
DTSTAMP:20260425T054838
CREATED:20240516T104830Z
LAST-MODIFIED:20240516T104830Z
UID:18029-1718496000-1718582399@thebeach.se
SUMMARY:08 beachvolley Mixed
DESCRIPTION:Mer info och anmälan på förbundets profixio (Anmälan kommer upp eftersom att det närmar sig)
URL:https://thebeach.se/kalender/08-beachvolley-mixed/
CATEGORIES:08 Beachvolley club,Mixed,sign up
END:VEVENT
BEGIN:VEVENT
DTSTART;VALUE=DATE:20240623
DTEND;VALUE=DATE:20240624
DTSTAMP:20260425T054838
CREATED:20240516T104929Z
LAST-MODIFIED:20240516T104929Z
UID:18031-1719100800-1719187199@thebeach.se
SUMMARY:08 Beachvolley SBT 3* Midsommar
DESCRIPTION:Mer info och anmälan på förbundets profixio (Anmälan kommer upp eftersom att det närmar sig)
URL:https://thebeach.se/kalender/08-beachvolley-sbt-3-midsommar/
CATEGORIES:08 Beachvolley club,Challenger,sign up
END:VEVENT
END:VCALENDAR