BEGIN:VCALENDAR
VERSION:2.0
PRODID:-//Sommar året runt - ECPv6.15.20//NONSGML v1.0//EN
CALSCALE:GREGORIAN
METHOD:PUBLISH
X-ORIGINAL-URL:https://thebeach.se
X-WR-CALDESC:Händelser för Sommar året runt
REFRESH-INTERVAL;VALUE=DURATION:PT1H
X-Robots-Tag:noindex
X-PUBLISHED-TTL:PT1H
BEGIN:VTIMEZONE
TZID:Europe/Paris
BEGIN:DAYLIGHT
TZOFFSETFROM:+0100
TZOFFSETTO:+0200
TZNAME:CEST
DTSTART:20240331T010000
END:DAYLIGHT
BEGIN:STANDARD
TZOFFSETFROM:+0200
TZOFFSETTO:+0100
TZNAME:CET
DTSTART:20241027T010000
END:STANDARD
BEGIN:DAYLIGHT
TZOFFSETFROM:+0100
TZOFFSETTO:+0200
TZNAME:CEST
DTSTART:20250330T010000
END:DAYLIGHT
BEGIN:STANDARD
TZOFFSETFROM:+0200
TZOFFSETTO:+0100
TZNAME:CET
DTSTART:20251026T010000
END:STANDARD
BEGIN:DAYLIGHT
TZOFFSETFROM:+0100
TZOFFSETTO:+0200
TZNAME:CEST
DTSTART:20260329T010000
END:DAYLIGHT
BEGIN:STANDARD
TZOFFSETFROM:+0200
TZOFFSETTO:+0100
TZNAME:CET
DTSTART:20261025T010000
END:STANDARD
END:VTIMEZONE
BEGIN:VEVENT
DTSTART;VALUE=DATE:20250208
DTEND;VALUE=DATE:20250209
DTSTAMP:20260424T180941
CREATED:20250109T120649Z
LAST-MODIFIED:20250130T155902Z
UID:18331-1738972800-1739059199@thebeach.se
SUMMARY:SBT1* - Våga tävla!
DESCRIPTION:Vill du börja tävla i beachvolley? NU är det dags!  \nDen 8 februari arrangerar vi SBT1* – Instegsnivån som är perfekt för dig som vill börja tävla. Det är din chans att utmana dig själv\, träffa nya människor och ta ditt spel till nästa nivå!  \n Utvecklas som spelare: Börja tävla och lär dig hantera press\, tänka strategiskt och finslipa dina skills.\n Gemenskap: Beachvolleyvärlden är full av härliga människor som älskar sporten lika mycket som du. Varje tävling är en chans att skapa nya vänskaper och minnen.\n Träna och ha kul: Glöm tråkiga gympass – här får du träning\, skratt och sand mellan tårna på samma gång! \nSanktionerade tävlingar som spelas inom ramen för Svensk volleybolls Swedish beach tour finns i fem nivåer. SBT1* är instegsnivån där alla upp till en viss ranking får vara med. Så om du vill börja tävla är det här nivån för dig att börja med! \nMer info och signup till denna turnering och andra på Profixio här! \nLicensiering & medlemskap 2025\nFör att spela rankinggrundande turnering krävs licens hos Svenska Volleybollförbundet (SVBF). \nMedlemskap hos oss förnyas automatiskt årsvis tills det sägs upp. Tävlingslicens ingår vid behov – aktivera via tavling@08beach.com. Medlemmar får rabatt på bokningar och andra förmåner. \nPriser: \n\nMedlemskap och licens: 350:-\nMedlemskap och licens junior 190:-\nÖvergång från annan klubb: 495:-\nInternationell licens (kräver medlemskap): 500:-\n\nMedlemskap mer info\, ansökan och betalning via Matchi-sidan här! \nHur lång tid tar det för att få licens?\nLicensiering sker inte med automatik. Du ansöker och betalar först om medlemskap och sen ska du maila tavling@08beach.com för att aktivera licensen. Om du inte varit licensierad medlem hos oss tidigare så tar det upp till 24 timmar innan Idrotten Online har registerat dig som medlem och först därefter kan vi manuellt markera att du har licens. Det kräver med andra ord en viss handpåläggning så licensiera dig gärna med framförhållning så du hinner få klart licensen innan du ska anmäla dig till en turnering. \nFör frågor gällande din licens hos oss\, vänligen kontakta tavling@08beach.com \nMer info här: https://thebeach.se/spela_beachvolley/vaga-borja-tavla-i-beachvolley/
URL:https://thebeach.se/kalender/sbt1-vaga-tavla/
CATEGORIES:Open Grön,sign up
ATTACH;FMTTYPE=image/webp:https://thebeach.se/wp-content/uploads/2025/01/bollisand-e1736340072713.webp
END:VEVENT
END:VCALENDAR