BEGIN:VCALENDAR
VERSION:2.0
PRODID:-//Sommar året runt - ECPv6.15.20//NONSGML v1.0//EN
CALSCALE:GREGORIAN
METHOD:PUBLISH
X-WR-CALNAME:Sommar året runt
X-ORIGINAL-URL:https://thebeach.se
X-WR-CALDESC:Händelser för Sommar året runt
REFRESH-INTERVAL;VALUE=DURATION:PT1H
X-Robots-Tag:noindex
X-PUBLISHED-TTL:PT1H
BEGIN:VTIMEZONE
TZID:Europe/Paris
BEGIN:DAYLIGHT
TZOFFSETFROM:+0100
TZOFFSETTO:+0200
TZNAME:CEST
DTSTART:20230326T010000
END:DAYLIGHT
BEGIN:STANDARD
TZOFFSETFROM:+0200
TZOFFSETTO:+0100
TZNAME:CET
DTSTART:20231029T010000
END:STANDARD
BEGIN:DAYLIGHT
TZOFFSETFROM:+0100
TZOFFSETTO:+0200
TZNAME:CEST
DTSTART:20240331T010000
END:DAYLIGHT
BEGIN:STANDARD
TZOFFSETFROM:+0200
TZOFFSETTO:+0100
TZNAME:CET
DTSTART:20241027T010000
END:STANDARD
BEGIN:DAYLIGHT
TZOFFSETFROM:+0100
TZOFFSETTO:+0200
TZNAME:CEST
DTSTART:20250330T010000
END:DAYLIGHT
BEGIN:STANDARD
TZOFFSETFROM:+0200
TZOFFSETTO:+0100
TZNAME:CET
DTSTART:20251026T010000
END:STANDARD
END:VTIMEZONE
BEGIN:VEVENT
DTSTART;VALUE=DATE:20240530
DTEND;VALUE=DATE:20240607
DTSTAMP:20260423T163344
CREATED:20240530T082651Z
LAST-MODIFIED:20240530T083725Z
UID:18057-1717027200-1717718399@thebeach.se
SUMMARY:Träningsgrupper sommarträning klara!
DESCRIPTION:Listan är i bokstavsordning. Om du är med i två grupper så står ditt namn två gånger! \n\nTräningsgrupper sommar PDF\n\nVi kör igång nästa vecka\, dvs måndagar startar den 3 juni och onsdagar den 5 juni. \n\n\nHittar du inte ditt namn på listan? Alla har inte fått plats så Mattias kommer snart maila till de som inte fått plats för att se om det kan hittas en lösning. \n\n\nOm du har funderingar så använd mail traning@beachvolley.seVarmt välkomna på sommarträning! \nPs. Detta avser nivåindelade träningsgrupper. Om du anmält dig till Barn & ungdomsträning så kommer info/kallelse via Svenska lag. Om du har frågor om det så är det Måns som svarar på det via mans@08beach.com. Vi har även grundkurs och fortsättningskurs i sommar med start 11 och 13 juni. Anmälan till dessa via vår MATCHI-sida och dit är anmälan öppen tills en kurs blir fullbokad. Ds. \nFoto: Oskar Gedeborg
URL:https://thebeach.se/kalender/traningsgrupper-sommartraning-klara/
CATEGORIES:beachvolley,träning
ATTACH;FMTTYPE=image/jpeg:https://thebeach.se/wp-content/uploads/2024/05/emma_2.jpg
END:VEVENT
BEGIN:VEVENT
DTSTART;VALUE=DATE:20240611
DTEND;VALUE=DATE:20240612
DTSTAMP:20260423T163344
CREATED:20240516T141041Z
LAST-MODIFIED:20240516T141041Z
UID:18039-1718064000-1718150399@thebeach.se
SUMMARY:Grundkurs i beachvolley med damlandslaget!
DESCRIPTION:Nu har du chansen att lära dig lira beachvolley med damlandslaget\, femfaldiga SM-mästarna Tina & Sanna Thurin! \nKursen går på tisdagar 19-20.30 på våra utebanor. Tina och Sanna håller i första och sista träningen för kursen men missar tyvärr andra passet men då har vi (nästan) lika bra vikarie. \nMer info och signup på våran MATCHi-sida under kurser!
URL:https://thebeach.se/kalender/grundkurs-i-beachvolley-med-damlandslaget/
LOCATION:The Beach\, Huddinge\, Novavägen 35\, Huddinge\, 14144\, Sverige
CATEGORIES:beachvolley,Grundkurs,sign up,träning
ATTACH;FMTTYPE=image/jpeg:https://thebeach.se/wp-content/uploads/2024/05/thurins.jpeg
END:VEVENT
BEGIN:VEVENT
DTSTART;VALUE=DATE:20240613
DTEND;VALUE=DATE:20240614
DTSTAMP:20260423T163344
CREATED:20240516T141458Z
LAST-MODIFIED:20240516T141458Z
UID:18042-1718236800-1718323199@thebeach.se
SUMMARY:Grundkurs i beachvolley\, torsdagar 20.30
DESCRIPTION:Lära dig lira beachvolley med oss! \nVi erbjuder två grundkurser i juni där den ena går på tisdagar 19.00-20.30 med start 11  juni och den andra på torsdagar 20.30-22.00 med start 13 juni. \nDu hittar mer info och signup på våran MATCHi-sida under kurser!
URL:https://thebeach.se/kalender/grundkurs-i-beachvolley-torsdagar-20-30/
CATEGORIES:beachvolley,Grundkurs,sign up,träning
END:VEVENT
END:VCALENDAR