BEGIN:VCALENDAR
VERSION:2.0
PRODID:-//Sommar året runt - ECPv6.15.20//NONSGML v1.0//EN
CALSCALE:GREGORIAN
METHOD:PUBLISH
X-WR-CALNAME:Sommar året runt
X-ORIGINAL-URL:https://thebeach.se
X-WR-CALDESC:Händelser för Sommar året runt
REFRESH-INTERVAL;VALUE=DURATION:PT1H
X-Robots-Tag:noindex
X-PUBLISHED-TTL:PT1H
BEGIN:VTIMEZONE
TZID:Europe/Paris
BEGIN:DAYLIGHT
TZOFFSETFROM:+0100
TZOFFSETTO:+0200
TZNAME:CEST
DTSTART:20240331T010000
END:DAYLIGHT
BEGIN:STANDARD
TZOFFSETFROM:+0200
TZOFFSETTO:+0100
TZNAME:CET
DTSTART:20241027T010000
END:STANDARD
BEGIN:DAYLIGHT
TZOFFSETFROM:+0100
TZOFFSETTO:+0200
TZNAME:CEST
DTSTART:20250330T010000
END:DAYLIGHT
BEGIN:STANDARD
TZOFFSETFROM:+0200
TZOFFSETTO:+0100
TZNAME:CET
DTSTART:20251026T010000
END:STANDARD
BEGIN:DAYLIGHT
TZOFFSETFROM:+0100
TZOFFSETTO:+0200
TZNAME:CEST
DTSTART:20260329T010000
END:DAYLIGHT
BEGIN:STANDARD
TZOFFSETFROM:+0200
TZOFFSETTO:+0100
TZNAME:CET
DTSTART:20261025T010000
END:STANDARD
END:VTIMEZONE
BEGIN:VEVENT
DTSTART;VALUE=DATE:20250831
DTEND;VALUE=DATE:20250901
DTSTAMP:20260422T180606
CREATED:20250821T173916Z
LAST-MODIFIED:20250821T173916Z
UID:18757-1756598400-1756684799@thebeach.se
SUMMARY:Höstens träningar startar 31/8 & framåt!
DESCRIPTION:Söndag den 31/8 & framåt drar vi igång all organiserad träning för hösten! Varmt välkomna alla!
URL:https://thebeach.se/kalender/hostens-traningar-startar-31-8-framat/
CATEGORIES:träning
ATTACH;FMTTYPE=image/jpeg:https://thebeach.se/wp-content/uploads/2025/07/coaches-1-e1751725396544.jpg
END:VEVENT
END:VCALENDAR