BEGIN:VCALENDAR
VERSION:2.0
PRODID:-//Sommar året runt - ECPv6.15.20//NONSGML v1.0//EN
CALSCALE:GREGORIAN
METHOD:PUBLISH
X-WR-CALNAME:Sommar året runt
X-ORIGINAL-URL:https://thebeach.se
X-WR-CALDESC:Händelser för Sommar året runt
REFRESH-INTERVAL;VALUE=DURATION:PT1H
X-Robots-Tag:noindex
X-PUBLISHED-TTL:PT1H
BEGIN:VTIMEZONE
TZID:Europe/Paris
BEGIN:DAYLIGHT
TZOFFSETFROM:+0100
TZOFFSETTO:+0200
TZNAME:CEST
DTSTART:20220327T010000
END:DAYLIGHT
BEGIN:STANDARD
TZOFFSETFROM:+0200
TZOFFSETTO:+0100
TZNAME:CET
DTSTART:20221030T010000
END:STANDARD
BEGIN:DAYLIGHT
TZOFFSETFROM:+0100
TZOFFSETTO:+0200
TZNAME:CEST
DTSTART:20230326T010000
END:DAYLIGHT
BEGIN:STANDARD
TZOFFSETFROM:+0200
TZOFFSETTO:+0100
TZNAME:CET
DTSTART:20231029T010000
END:STANDARD
BEGIN:DAYLIGHT
TZOFFSETFROM:+0100
TZOFFSETTO:+0200
TZNAME:CEST
DTSTART:20240331T010000
END:DAYLIGHT
BEGIN:STANDARD
TZOFFSETFROM:+0200
TZOFFSETTO:+0100
TZNAME:CET
DTSTART:20241027T010000
END:STANDARD
END:VTIMEZONE
BEGIN:VEVENT
DTSTART;VALUE=DATE:20230905
DTEND;VALUE=DATE:20230906
DTSTAMP:20260424T080701
CREATED:20230620T150850Z
LAST-MODIFIED:20230831T093758Z
UID:17455-1693872000-1693958399@thebeach.se
SUMMARY:Start höstens fortsättningskurs i beachvolley!
DESCRIPTION:Fortsättningskurs i beachvolley på tisdagar 19.00! Spana in all info och anmälan här!
URL:https://thebeach.se/kalender/start-hostens-fortsattningskurs-i-beachvolley/
LOCATION:The Beach\, Huddinge\, Novavägen 35\, Huddinge\, 14144\, Sverige
CATEGORIES:beachvolley,Fortsättningskurs,kurs,träning
ATTACH;FMTTYPE=image/jpeg:https://thebeach.se/wp-content/uploads/2022/10/22-oktober-2022-4-scaled-e1666781201613.jpg
END:VEVENT
END:VCALENDAR